BEGIN:VCALENDAR
VERSION:2.0
PRODID:-//DMSG-OV Krefeld - ECPv6.15.20//NONSGML v1.0//EN
CALSCALE:GREGORIAN
METHOD:PUBLISH
X-ORIGINAL-URL:https://dmsg-krefeld.de
X-WR-CALDESC:Veranstaltungen für DMSG-OV Krefeld
REFRESH-INTERVAL;VALUE=DURATION:PT1H
X-Robots-Tag:noindex
X-PUBLISHED-TTL:PT1H
BEGIN:VTIMEZONE
TZID:Europe/Berlin
BEGIN:DAYLIGHT
TZOFFSETFROM:+0100
TZOFFSETTO:+0200
TZNAME:CEST
DTSTART:20240331T010000
END:DAYLIGHT
BEGIN:STANDARD
TZOFFSETFROM:+0200
TZOFFSETTO:+0100
TZNAME:CET
DTSTART:20241027T010000
END:STANDARD
BEGIN:DAYLIGHT
TZOFFSETFROM:+0100
TZOFFSETTO:+0200
TZNAME:CEST
DTSTART:20250330T010000
END:DAYLIGHT
BEGIN:STANDARD
TZOFFSETFROM:+0200
TZOFFSETTO:+0100
TZNAME:CET
DTSTART:20251026T010000
END:STANDARD
BEGIN:DAYLIGHT
TZOFFSETFROM:+0100
TZOFFSETTO:+0200
TZNAME:CEST
DTSTART:20260329T010000
END:DAYLIGHT
BEGIN:STANDARD
TZOFFSETFROM:+0200
TZOFFSETTO:+0100
TZNAME:CET
DTSTART:20261025T010000
END:STANDARD
END:VTIMEZONE
BEGIN:VEVENT
DTSTART;TZID=Europe/Berlin:20250910T190000
DTEND;TZID=Europe/Berlin:20250910T220000
DTSTAMP:20260423T124831
CREATED:20250715T123630Z
LAST-MODIFIED:20250715T123638Z
UID:374-1757530800-1757541600@dmsg-krefeld.de
SUMMARY:Stammtisch | 10.09.2025
DESCRIPTION:Der nächste Stammtisch findet am 10.09.2025 um 19 Uhr im Nordbahnhof statt. Unser Stammtisch findet jeden 2. Mittwoch im Monat in unterschiedlichen Lokalitäten statt. Zu- und Absagen nehmen wir gerne in der Beratungsstelle entgegen
URL:https://dmsg-krefeld.de/veranstaltung/stammtisch-10-09-2025/
LOCATION:Nordbahnhof\, Oranierring 91\, Krefeld\, NRW\, 47798\, Deutschland
CATEGORIES:Stammtisch
END:VEVENT
BEGIN:VEVENT
DTSTART;TZID=Europe/Berlin:20250927T080000
DTEND;TZID=Europe/Berlin:20250927T170000
DTSTAMP:20260423T124831
CREATED:20250808T060207Z
LAST-MODIFIED:20250808T060207Z
UID:385-1758960000-1758992400@dmsg-krefeld.de
SUMMARY:Ausflug mit den Lions ins Gasometer Oberhausen
DESCRIPTION:Zusammen mit den Lions Krefeld besuchen wir am 27.09.2025 die Ausstellung „Planet Ozean“ im Gasometer Oberhausen. \nTreffpunkt ist der Krefelder Hauptbahnhof. Die genaue Abfahrtszeit und alle weiteren Informationen erhalten alle Angemeldeten rechtzeitig vor dem Ausflug. \nFür die Anmeldung meldet euch bitte bis zum 29.08.2025 telefonisch oder per E-Mail in der Beratungsstelle. \nNähere Informationen zur Ausstellung findet ihr hier: https://www.gasometer.de/de/ausstellungen/planet-ozean \nWir freuen uns auf euch und einen tollen Tag in Oberhausen!
URL:https://dmsg-krefeld.de/veranstaltung/ausflug-mit-den-lions-ins-gasometer-oberhausen/
LOCATION:Gasometer Oberhausen\, Oberhausen\, Germany
CATEGORIES:Besondere Veranstaltung
END:VEVENT
END:VCALENDAR