BEGIN:VCALENDAR
VERSION:2.0
PRODID:-//DMSG-OV Krefeld - ECPv6.15.20//NONSGML v1.0//EN
CALSCALE:GREGORIAN
METHOD:PUBLISH
X-WR-CALNAME:DMSG-OV Krefeld
X-ORIGINAL-URL:https://dmsg-krefeld.de
X-WR-CALDESC:Veranstaltungen für DMSG-OV Krefeld
REFRESH-INTERVAL;VALUE=DURATION:PT1H
X-Robots-Tag:noindex
X-PUBLISHED-TTL:PT1H
BEGIN:VTIMEZONE
TZID:Europe/Berlin
BEGIN:DAYLIGHT
TZOFFSETFROM:+0100
TZOFFSETTO:+0200
TZNAME:CEST
DTSTART:20250330T010000
END:DAYLIGHT
BEGIN:STANDARD
TZOFFSETFROM:+0200
TZOFFSETTO:+0100
TZNAME:CET
DTSTART:20251026T010000
END:STANDARD
BEGIN:DAYLIGHT
TZOFFSETFROM:+0100
TZOFFSETTO:+0200
TZNAME:CEST
DTSTART:20260329T010000
END:DAYLIGHT
BEGIN:STANDARD
TZOFFSETFROM:+0200
TZOFFSETTO:+0100
TZNAME:CET
DTSTART:20261025T010000
END:STANDARD
BEGIN:DAYLIGHT
TZOFFSETFROM:+0100
TZOFFSETTO:+0200
TZNAME:CEST
DTSTART:20270328T010000
END:DAYLIGHT
BEGIN:STANDARD
TZOFFSETFROM:+0200
TZOFFSETTO:+0100
TZNAME:CET
DTSTART:20271031T010000
END:STANDARD
END:VTIMEZONE
BEGIN:VEVENT
DTSTART;TZID=Europe/Berlin:20260211T190000
DTEND;TZID=Europe/Berlin:20260211T220000
DTSTAMP:20260423T064735
CREATED:20260106T135734Z
LAST-MODIFIED:20260106T205122Z
UID:401-1770836400-1770847200@dmsg-krefeld.de
SUMMARY:Stammtisch | 11.02.2026
DESCRIPTION:Der nächste Stammtisch findet am 11.02.2026 um 19 Uhr im Restaurant Green Chili statt. Unser Stammtisch findet jeden 2. Mittwoch im Monat in unterschiedlichen Lokalitäten statt. Zu- und Absagen nehmen wir gerne in der Beratungsstelle entgegen.
URL:https://dmsg-krefeld.de/veranstaltung/stammtisch-11-02-2026/
LOCATION:Green Chili\, Uerdinger Straße 21\, Krefeld\, 47799
CATEGORIES:Stammtisch
END:VEVENT
END:VCALENDAR