BEGIN:VCALENDAR
VERSION:2.0
PRODID:-//DMSG-OV Krefeld - ECPv6.15.20//NONSGML v1.0//EN
CALSCALE:GREGORIAN
METHOD:PUBLISH
X-ORIGINAL-URL:https://dmsg-krefeld.de
X-WR-CALDESC:Veranstaltungen für DMSG-OV Krefeld
REFRESH-INTERVAL;VALUE=DURATION:PT1H
X-Robots-Tag:noindex
X-PUBLISHED-TTL:PT1H
BEGIN:VTIMEZONE
TZID:Europe/Berlin
BEGIN:DAYLIGHT
TZOFFSETFROM:+0100
TZOFFSETTO:+0200
TZNAME:CEST
DTSTART:20240331T010000
END:DAYLIGHT
BEGIN:STANDARD
TZOFFSETFROM:+0200
TZOFFSETTO:+0100
TZNAME:CET
DTSTART:20241027T010000
END:STANDARD
BEGIN:DAYLIGHT
TZOFFSETFROM:+0100
TZOFFSETTO:+0200
TZNAME:CEST
DTSTART:20250330T010000
END:DAYLIGHT
BEGIN:STANDARD
TZOFFSETFROM:+0200
TZOFFSETTO:+0100
TZNAME:CET
DTSTART:20251026T010000
END:STANDARD
BEGIN:DAYLIGHT
TZOFFSETFROM:+0100
TZOFFSETTO:+0200
TZNAME:CEST
DTSTART:20260329T010000
END:DAYLIGHT
BEGIN:STANDARD
TZOFFSETFROM:+0200
TZOFFSETTO:+0100
TZNAME:CET
DTSTART:20261025T010000
END:STANDARD
END:VTIMEZONE
BEGIN:VEVENT
DTSTART;TZID=Europe/Berlin:20251210T190000
DTEND;TZID=Europe/Berlin:20251210T220000
DTSTAMP:20260423T092848
CREATED:20250715T124000Z
LAST-MODIFIED:20250715T124000Z
UID:382-1765393200-1765404000@dmsg-krefeld.de
SUMMARY:Stammtisch | 10.12.2025
DESCRIPTION:Der nächste Stammtisch findet am 10.12.2025 um 19 Uhr im China City statt. Unser Stammtisch findet jeden 2. Mittwoch im Monat in unterschiedlichen Lokalitäten statt. Zu- und Absagen nehmen wir gerne in der Beratungsstelle entgegen
URL:https://dmsg-krefeld.de/veranstaltung/stammtisch-10-12-2025/
CATEGORIES:Stammtisch
END:VEVENT
END:VCALENDAR